BEGIN:VCALENDAR
VERSION:2.0
PRODID:-//Tukios.com/
BEGIN:VEVENT
UID:e36286d2-9b4c-4159-9497-d8405c9a1dd9@www.phillipsfuneral.org
DTSTAMP:20260422T024249Z
DTSTART:20260425T150000Z
DTEND:20260425T160000Z
SUMMARY:Visitation
DESCRIPTION:
URL:https://www.phillipsfuneral.org/obituaries/glenn-carlton
LOCATION:Phillips Funeral Home 4904 W Kingshighway  Paragould AR 72450
GEO:36.0606417;-90.5511193
END:VEVENT
END:VCALENDAR