BEGIN:VCALENDAR
VERSION:2.0
PRODID:-//Tukios.com/
BEGIN:VEVENT
UID:08f961ae-1d0d-4d68-a704-7acdfc60986d@www.phillipsfuneral.org
DTSTAMP:20260425T201258Z
DTSTART:20260429T180000Z
DTEND:20260429T190000Z
SUMMARY:Visitation
DESCRIPTION:
URL:https://www.phillipsfuneral.org/obituaries/jesse-phelps
LOCATION: 4904 W Kingshighway  Paragould AR 72450
GEO:36.0606417;-90.5511193
END:VEVENT
END:VCALENDAR