BEGIN:VCALENDAR
VERSION:2.0
PRODID:-//Tukios.com/
BEGIN:VEVENT
UID:6bd28da1-b0e7-45dc-9397-1ca8695ae791@www.phillipsfuneral.org
DTSTAMP:20260425T201350Z
DTSTART:20260429T190000Z
DTEND:20260429T200000Z
SUMMARY:Funeral Service
DESCRIPTION:
URL:https://www.phillipsfuneral.org/obituaries/jesse-phelps
LOCATION: 4904 W Kingshighway  Paragould AR 72450
GEO:36.0606417;-90.5511193
END:VEVENT
END:VCALENDAR