BEGIN:VCALENDAR
VERSION:2.0
PRODID:-//Tukios.com/
BEGIN:VEVENT
UID:80d3d0b2-dbe7-486c-b2fc-db260187e997@www.phillipsfuneral.org
DTSTAMP:20260424T201005Z
DTSTART:20260425T190000Z
DTEND:20260425T200000Z
SUMMARY:Visitation
DESCRIPTION:
URL:https://www.phillipsfuneral.org/obituaries/linda-kay-angeline-wagner
LOCATION: 4904 W Kingshighway  Paragould AR 72450
GEO:36.0606417;-90.5511193
END:VEVENT
END:VCALENDAR