BEGIN:VCALENDAR
VERSION:2.0
PRODID:-//Tukios.com/
BEGIN:VEVENT
UID:21e9cc32-c17f-47bc-880d-5e644dea6120@www.phillipsfuneral.org
DTSTAMP:20260424T201327Z
DTSTART:20260425T200000Z
DTEND:20260425T210000Z
SUMMARY:Funeral Service
DESCRIPTION:
URL:https://www.phillipsfuneral.org/obituaries/linda-kay-angeline-wagner
LOCATION: 4904 W Kingshighway  Paragould AR 72450
GEO:36.0606417;-90.5511193
END:VEVENT
END:VCALENDAR